BEGIN:VCALENDAR
VERSION:2.0
PRODID:-//Friends of the Kayaderosseras - ECPv6.15.20//NONSGML v1.0//EN
CALSCALE:GREGORIAN
METHOD:PUBLISH
X-ORIGINAL-URL:https://kayadeross.org
X-WR-CALDESC:Events for Friends of the Kayaderosseras
REFRESH-INTERVAL;VALUE=DURATION:PT1H
X-Robots-Tag:noindex
X-PUBLISHED-TTL:PT1H
BEGIN:VTIMEZONE
TZID:America/New_York
BEGIN:DAYLIGHT
TZOFFSETFROM:-0500
TZOFFSETTO:-0400
TZNAME:EDT
DTSTART:20230312T070000
END:DAYLIGHT
BEGIN:STANDARD
TZOFFSETFROM:-0400
TZOFFSETTO:-0500
TZNAME:EST
DTSTART:20231105T060000
END:STANDARD
BEGIN:DAYLIGHT
TZOFFSETFROM:-0500
TZOFFSETTO:-0400
TZNAME:EDT
DTSTART:20240310T070000
END:DAYLIGHT
BEGIN:STANDARD
TZOFFSETFROM:-0400
TZOFFSETTO:-0500
TZNAME:EST
DTSTART:20241103T060000
END:STANDARD
BEGIN:DAYLIGHT
TZOFFSETFROM:-0500
TZOFFSETTO:-0400
TZNAME:EDT
DTSTART:20250309T070000
END:DAYLIGHT
BEGIN:STANDARD
TZOFFSETFROM:-0400
TZOFFSETTO:-0500
TZNAME:EST
DTSTART:20251102T060000
END:STANDARD
END:VTIMEZONE
BEGIN:VEVENT
DTSTART;TZID=America/New_York:20240713T100000
DTEND;TZID=America/New_York:20240713T120000
DTSTAMP:20260423T094504
CREATED:20240610T232156Z
LAST-MODIFIED:20240701T224500Z
UID:807-1720864800-1720872000@kayadeross.org
SUMMARY:2024 Trail Crew - Kelley Park\, John Romano Nature Trail Maintenance
DESCRIPTION:Getting together with friends for a casual work party in the woods is a great way to kick off the weekend. Many hands make light work\, so the more people show up\, the better the camaraderie and the quicker we get the work done. \nIf you are interested in this effort\, or would like more information\, please email Margaret at margaretkinosian@gmail.com. Thank you!
URL:https://kayadeross.org/event/2024-trail-crew-event-1/
LOCATION:Kelley Park\, 48 Ralph Street\, Ballston Spa\, NY\, 12020\, United States
ORGANIZER;CN="Margaret Kinosian":MAILTO:margaretkinosian@gmail.com.
END:VEVENT
BEGIN:VEVENT
DTSTART;TZID=America/New_York:20240720T100000
DTEND;TZID=America/New_York:20240720T120000
DTSTAMP:20260423T094504
CREATED:20240610T232649Z
LAST-MODIFIED:20240717T211533Z
UID:811-1721469600-1721476800@kayadeross.org
SUMMARY:2024 Trail Crew - Axe Factory
DESCRIPTION:[vc_row][vc_column][vc_column_text]Join us at Axe Factory Preserve\, where we’ll be cutting back brush to widen the upstream trail where it has grown in. There are also two places where stepping stones are needed to cross water\, so if you want to help with that\, bring work gloves and sturdy shoes that can get wet. \nWe’ll meet at the park entrance at the end of Axe Street. Wear sturdy shoes (sneakers or boots)\, bring loppers if you have them\, and work gloves\, water\, and bug repellent. We will supply rock moving equipment. \nHope you can join us! \nSee all volunteer opportunities \n[/vc_column_text][/vc_column][/vc_row]
URL:https://kayadeross.org/event/2024-trail-crew-event-2/
LOCATION:Axe Factory Preserve\, 15 Axe Street\, Ballston Spa\, NY\, 12020\, United States
ORGANIZER;CN="Margaret Kinosian":MAILTO:margaretkinosian@gmail.com.
END:VEVENT
BEGIN:VEVENT
DTSTART;TZID=America/New_York:20240727T100000
DTEND;TZID=America/New_York:20240727T120000
DTSTAMP:20260423T094504
CREATED:20240610T232742Z
LAST-MODIFIED:20240725T140538Z
UID:814-1722074400-1722081600@kayadeross.org
SUMMARY:2024 Trail Crew - Axe Factory
DESCRIPTION:Join us on July 27 at Axe Factory Preserve\, where we’ll replace decking on the second bridge downstream from the park entrance. If time allows\, we will also do some more brush clearing further down the trail. \nWear sturdy shoes (sneakers or boots) and work gloves\, bring water and bug repellent. We will supply the necessary tools. \nMeet at the park entrance at the end of Axe Street in Ballston Spa. \nCome join the fun! \nIf you are interested in this effort\, or would like more information\, please email Margaret at margaretkinosian@gmail.com. Thank you! \nSee all volunteer opportunities
URL:https://kayadeross.org/event/2024-trail-crew-event-3/
LOCATION:Axe Factory Preserve\, 15 Axe Street\, Ballston Spa\, NY\, 12020\, United States
ATTACH;FMTTYPE=image/png:https://kayadeross.org/wp-content/uploads/2024/06/Trail-Crew-Kelley-Park-2.png
ORGANIZER;CN="Margaret Kinosian":MAILTO:margaretkinosian@gmail.com.
END:VEVENT
END:VCALENDAR